Workbook
Name full_hours_in_last_day: _xlfn.LAMBDA(_xlpm.s,INT(h_DataValidation!seconds_in_last_day(_xlpm.s)/60/60))
Name full_hours_in_last_day: _xlfn.LAMBDA(_xlpm.s,INT(h_ItemMarketInfo!seconds_in_last_day(_xlpm.s)/60/60))
Name full_hours_in_last_day: _xlfn.LAMBDA(_xlpm.s,INT(h_ManufacturingBonuses!seconds_in_last_day(_xlpm.s)/60/60))
Name full_hours_in_last_day: _xlfn.LAMBDA(_xlpm.s,INT(h_ManufacturingSkills!seconds_in_last_day(_xlpm.s)/60/60))
Name full_hours_in_last_day: _xlfn.LAMBDA(_xlpm.s,INT(ItemMarketInfo!seconds_in_last_day(_xlpm.s)/60/60))
Name full_hours_in_last_day: _xlfn.LAMBDA(_xlpm.s,INT(ManufacturingSimple!seconds_in_last_day(_xlpm.s)/60/60))
Name full_hours_in_last_day: _xlfn.LAMBDA(_xlpm.s,INT(seconds_in_last_day(_xlpm.s)/60/60))
Name full_minutes_in_last_hour: _xlfn.LAMBDA(_xlpm.s,INT(h_DataValidation!seconds_in_last_day(_xlpm.s)/60)-h_DataValidation!full_hours_in_last_day(_xlpm.s)*60)
Name full_minutes_in_last_hour: _xlfn.LAMBDA(_xlpm.s,INT(h_ItemMarketInfo!seconds_in_last_day(_xlpm.s)/60)-h_ItemMarketInfo!full_hours_in_last_day(_xlpm.s)*60)
Name full_minutes_in_last_hour: _xlfn.LAMBDA(_xlpm.s,INT(h_ManufacturingBonuses!seconds_in_last_day(_xlpm.s)/60)-h_ManufacturingBonuses!full_hours_in_last_day(_xlpm.s)*60)
Name full_minutes_in_last_hour: _xlfn.LAMBDA(_xlpm.s,INT(h_ManufacturingSkills!seconds_in_last_day(_xlpm.s)/60)-h_ManufacturingSkills!full_hours_in_last_day(_xlpm.s)*60)
Name full_minutes_in_last_hour: _xlfn.LAMBDA(_xlpm.s,INT(ItemMarketInfo!seconds_in_last_day(_xlpm.s)/60)-ItemMarketInfo!full_hours_in_last_day(_xlpm.s)*60)
Name full_minutes_in_last_hour: _xlfn.LAMBDA(_xlpm.s,INT(ManufacturingSimple!seconds_in_last_day(_xlpm.s)/60)-ManufacturingSimple!full_hours_in_last_day(_xlpm.s)*60)
Name full_minutes_in_last_hour: _xlfn.LAMBDA(_xlpm.s,INT(seconds_in_last_day(_xlpm.s)/60)-full_hours_in_last_day(_xlpm.s)*60)
Name seconds_in_last_day: _xlfn.LAMBDA(_xlpm.s,MOD(_xlpm.s,86400))
Name seconds_in_last_day: _xlfn.LAMBDA(_xlpm.s,MOD(_xlpm.s,86400))
Name seconds_in_last_day: _xlfn.LAMBDA(_xlpm.s,MOD(_xlpm.s,86400))
Name seconds_in_last_day: _xlfn.LAMBDA(_xlpm.s,MOD(_xlpm.s,86400))
Name seconds_in_last_day: _xlfn.LAMBDA(_xlpm.s,MOD(_xlpm.s,86400))
Name seconds_in_last_day: _xlfn.LAMBDA(_xlpm.s,MOD(_xlpm.s,86400))
Name seconds_in_last_day: _xlfn.LAMBDA(_xlpm.s,MOD(_xlpm.s,86400))
Name seconds_in_last_minute: _xlfn.LAMBDA(_xlpm.s,h_DataValidation!seconds_in_last_day(_xlpm.s)-(h_DataValidation!full_hours_in_last_day(_xlpm.s)*60*60)-(h_DataValidation!full_minutes_in_last_hour(_xlpm.s)*60))
Name seconds_in_last_minute: _xlfn.LAMBDA(_xlpm.s,h_ItemMarketInfo!seconds_in_last_day(_xlpm.s)-(h_ItemMarketInfo!full_hours_in_last_day(_xlpm.s)*60*60)-(h_ItemMarketInfo!full_minutes_in_last_hour(_xlpm.s)*60))
Name seconds_in_last_minute: _xlfn.LAMBDA(_xlpm.s,h_ManufacturingBonuses!seconds_in_last_day(_xlpm.s)-(h_ManufacturingBonuses!full_hours_in_last_day(_xlpm.s)*60*60)-(h_ManufacturingBonuses!full_minutes_in_last_hour(_xlpm.s)*60))
Name seconds_in_last_minute: _xlfn.LAMBDA(_xlpm.s,h_ManufacturingSkills!seconds_in_last_day(_xlpm.s)-(h_ManufacturingSkills!full_hours_in_last_day(_xlpm.s)*60*60)-(h_ManufacturingSkills!full_minutes_in_last_hour(_xlpm.s)*60))
Name seconds_in_last_minute: _xlfn.LAMBDA(_xlpm.s,ItemMarketInfo!seconds_in_last_day(_xlpm.s)-(ItemMarketInfo!full_hours_in_last_day(_xlpm.s)*60*60)-(ItemMarketInfo!full_minutes_in_last_hour(_xlpm.s)*60))
Name seconds_in_last_minute: _xlfn.LAMBDA(_xlpm.s,ManufacturingSimple!seconds_in_last_day(_xlpm.s)-(ManufacturingSimple!full_hours_in_last_day(_xlpm.s)*60*60)-(ManufacturingSimple!full_minutes_in_last_hour(_xlpm.s)*60))
Name seconds_in_last_minute: _xlfn.LAMBDA(_xlpm.s,seconds_in_last_day(_xlpm.s)-(full_hours_in_last_day(_xlpm.s)*60*60)-(full_minutes_in_last_hour(_xlpm.s)*60))
Name seconds_to_dhms: _xlfn.LAMBDA(_xlpm.s,INT(_xlpm.s/86400)&"d "&full_hours_in_last_day(_xlpm.s)&"h "&full_minutes_in_last_hour(_xlpm.s)&"m "&INT(seconds_in_last_minute(_xlpm.s))&"s")

Sheet Instructions
A1: Welcome on board Capsuleer!
A2: This workbook contains tips and tricks and a look at some of the features and commands you can use to excel at EVE.
A3: Save this workbook to your OneDrive account or download it to your desktop to be able to edit it
A4: This workbook was designed for Excel 365 and Excel for the web. Some newer Excel formulas used in this workbook may not work in other versions of Excel.
A6: To open the EVE Online Add-In panel, click on the EVE Online icon in the top right corner within the Home tab
A8: This workbook requires at least one authenticated character to work properly
A9: After signing in a new character press Ctrl+Alt+F9 to recalculate all cells
A11: Worksheet name prefix indicates its function.
A12: no prefix - summary sheet on specific topic, usually combined with universe or character data
A13: h_ - helper sheet, used in some calculations
A16: Press Ctrl+~ (Ctrl+tilde, Ctrl+` on some keyboards) to switch between result and formulas view in cells, for easier inspection.
A18: input field
... A23: The ID can be acquired from another function, for example .SEARCHSOLARSYSTEM("Jita") will return Jita's solar system ID, but here are some examples:
A24: Types: | B24: id | C24: All type ID's can be found in sd_types sheet
A25: Rifter | B25: 587
A26: Dominix | B26: 645
A27: Dominix Blueprint | B27: 999
A29: Regions: | B29: id
A30: The Forge | B30: 10000002
A31: Domain | B31: 10000043
A34: Helpful Excel Syntax and Functions:
A35: A2# - to refer to the spill results as range
A36: A2#.X - to refer to a list of values of an attribute X of each result in range, as range
A37: XLOOKUP - searches a range or an array for a match and returns the corresponding result from another range or array
A38: VSTACK - vertically stacks arrays into one array
A39: HSTACK - horizontally stacks arrays into one array
A40: TOCOL - returns array as one column
A41: TOROW - returns array as one row
A42: LAMBDA - creates functions with optional parameters, to be used within formulas
A43: MAP - Returns an array formed by mapping each value in the array(s) to a new value by applying a LAMBDA function to create a new value.

Sheet Characters
A1: Character | B1: Image | C1: Name | D1: CharacterId | E1: Corporation | F1: Date of Birth | G1: ISK Wallet | H1: Assets Value | I1: Total Value | J1: Skills | K1: SkillPointsInSkills
A2: {=_xldudf_EVEONLINE_ACTIVE_CHARACTER()} -> #N/A | B2: {=_FV(_xlfn.ANCHORARRAY(A2),"image")} -> #VALUE! | C2: {=_FV(_xlfn.ANCHORARRAY(A2),"name")} -> #VALUE! | D2: {=_FV(_xlfn.ANCHORARRAY(A2),"id")} -> #VALUE! | E2: {=_FV(_xlfn.ANCHORARRAY(A2),"corporation")} -> #VALUE! | F2: {=_FV(_xlfn.ANCHORARRAY(A2),"birthday")} -> #VALUE! | G2: {=IF(A2="",0,_xldudf_EVEONLINE_CHARACTER_WALLET_BALANCE(A2))} -> #N/A | H2: =SUMIFS(Assets!L:L,Assets!G:G,A2) -> 0 | I2: =G2+H2 -> #N/A | J2: {=COUNT(_FV(_xldudf_EVEONLINE_CHARACTER_SKILLS(A2),"id"))} -> 0 | K2: {=SUM(_FV(_xldudf_EVEONLINE_CHARACTER_SKILLS(A2),"skillpoints_in_skill"))} -> #VALUE!
G3: {=IF(A3="",0,_xldudf_EVEONLINE_CHARACTER_WALLET_BALANCE(A3))} -> 0 | H3: =SUMIFS(Assets!L:L,Assets!G:G,A3) -> 0 | I3: =G3+H3 -> 0 | J3: {=COUNT(_FV(_xldudf_EVEONLINE_CHARACTER_SKILLS(A3),"id"))} -> 0 | K3: {=SUM(_FV(_xldudf_EVEONLINE_CHARACTER_SKILLS(A3),"skillpoints_in_skill"))} -> #VALUE!
D4: {=IF(A4="","",_FV(A4,"id"))} | G4: {=IF(A4="",0,_xldudf_EVEONLINE_CHARACTER_WALLET_BALANCE(A4))} -> 0 | H4: =SUMIFS(Assets!L:L,Assets!G:G,A4) -> 0 | I4: =G4+H4 -> 0 | J4: {=COUNT(_FV(_xldudf_EVEONLINE_CHARACTER_SKILLS(A4),"id"))} -> 0 | K4: {=SUM(_FV(_xldudf_EVEONLINE_CHARACTER_SKILLS(A4),"skillpoints_in_skill"))} -> #VALUE!
G5: {=IF(A5="",0,_xldudf_EVEONLINE_CHARACTER_WALLET_BALANCE(A5))} -> 0 | H5: =SUMIFS(Assets!L:L,Assets!G:G,A5) -> 0 | I5: =G5+H5 -> 0 | J5: {=COUNT(_FV(_xldudf_EVEONLINE_CHARACTER_SKILLS(A5),"id"))} -> 0 | K5: {=SUM(_FV(_xldudf_EVEONLINE_CHARACTER_SKILLS(A5),"skillpoints_in_skill"))} -> #VALUE!
G6: {=IF(A6="",0,_xldudf_EVEONLINE_CHARACTER_WALLET_BALANCE(A6))} -> 0 | H6: =SUMIFS(Assets!L:L,Assets!G:G,A6) -> 0 | I6: =G6+H6 -> 0 | J6: {=COUNT(_FV(_xldudf_EVEONLINE_CHARACTER_SKILLS(A6),"id"))} -> 0 | K6: {=SUM(_FV(_xldudf_EVEONLINE_CHARACTER_SKILLS(A6),"skillpoints_in_skill"))} -> #VALUE!
G7: {=IF(A7="",0,_xldudf_EVEONLINE_CHARACTER_WALLET_BALANCE(A7))} -> 0 | H7: =SUMIFS(Assets!L:L,Assets!G:G,A7) -> 0 | I7: =G7+H7 -> 0 | J7: {=COUNT(_FV(_xldudf_EVEONLINE_CHARACTER_SKILLS(A7),"id"))} -> 0 | K7: {=SUM(_FV(_xldudf_EVEONLINE_CHARACTER_SKILLS(A7),"skillpoints_in_skill"))} -> #VALUE!
G8: {=IF(A8="",0,_xldudf_EVEONLINE_CHARACTER_WALLET_BALANCE(A8))} -> 0 | H8: =SUMIFS(Assets!L:L,Assets!G:G,A8) -> 0 | I8: =G8+H8 -> 0 | J8: {=COUNT(_FV(_xldudf_EVEONLINE_CHARACTER_SKILLS(A8),"id"))} -> 0 | K8: {=SUM(_FV(_xldudf_EVEONLINE_CHARACTER_SKILLS(A8),"skillpoints_in_skill"))} -> #VALUE!
G9: {=IF(A9="",0,_xldudf_EVEONLINE_CHARACTER_WALLET_BALANCE(A9))} -> 0 | H9: =SUMIFS(Assets!L:L,Assets!G:G,A9) -> 0 | I9: =G9+H9 -> 0 | J9: {=COUNT(_FV(_xldudf_EVEONLINE_CHARACTER_SKILLS(A9),"id"))} -> 0 | K9: {=SUM(_FV(_xldudf_EVEONLINE_CHARACTER_SKILLS(A9),"skillpoints_in_skill"))} -> #VALUE!
G10: {=IF(A10="",0,_xldudf_EVEONLINE_CHARACTER_WALLET_BALANCE(A10))} -> 0 | H10: =SUMIFS(Assets!L:L,Assets!G:G,A10) -> 0 | I10: =G10+H10 -> 0 | J10: {=COUNT(_FV(_xldudf_EVEONLINE_CHARACTER_SKILLS(A10),"id"))} -> 0 | K10: {=SUM(_FV(_xldudf_EVEONLINE_CHARACTER_SKILLS(A10),"skillpoints_in_skill"))} -> #VALUE!
G11: {=IF(A11="",0,_xldudf_EVEONLINE_CHARACTER_WALLET_BALANCE(A11))} -> 0 | H11: =SUMIFS(Assets!L:L,Assets!G:G,A11) -> 0 | I11: =G11+H11 -> 0 | J11: {=COUNT(_FV(_xldudf_EVEONLINE_CHARACTER_SKILLS(A11),"id"))} -> 0 | K11: {=SUM(_FV(_xldudf_EVEONLINE_CHARACTER_SKILLS(A11),"skillpoints_in_skill"))} -> #VALUE!
G12: {=IF(A12="",0,_xldudf_EVEONLINE_CHARACTER_WALLET_BALANCE(A12))} -> 0 | H12: =SUMIFS(Assets!L:L,Assets!G:G,A12) -> 0 | I12: =G12+H12 -> 0 | J12: {=COUNT(_FV(_xldudf_EVEONLINE_CHARACTER_SKILLS(A12),"id"))} -> 0 | K12: {=SUM(_FV(_xldudf_EVEONLINE_CHARACTER_SKILLS(A12),"skillpoints_in_skill"))} -> #VALUE!
G13: {=IF(A13="",0,_xldudf_EVEONLINE_CHARACTER_WALLET_BALANCE(A13))} -> 0 | H13: =SUMIFS(Assets!L:L,Assets!G:G,A13) -> 0 | I13: =G13+H13 -> 0 | J13: {=COUNT(_FV(_xldudf_EVEONLINE_CHARACTER_SKILLS(A13),"id"))} -> 0 | K13: {=SUM(_FV(_xldudf_EVEONLINE_CHARACTER_SKILLS(A13),"skillpoints_in_skill"))} -> #VALUE!
G14: {=IF(A14="",0,_xldudf_EVEONLINE_CHARACTER_WALLET_BALANCE(A14))} -> 0 | H14: =SUMIFS(Assets!L:L,Assets!G:G,A14) -> 0 | I14: =G14+H14 -> 0 | J14: {=COUNT(_FV(_xldudf_EVEONLINE_CHARACTER_SKILLS(A14),"id"))} -> 0 | K14: {=SUM(_FV(_xldudf_EVEONLINE_CHARACTER_SKILLS(A14),"skillpoints_in_skill"))} -> #VALUE!
G15: {=IF(A15="",0,_xldudf_EVEONLINE_CHARACTER_WALLET_BALANCE(A15))} -> 0 | H15: =SUMIFS(Assets!L:L,Assets!G:G,A15) -> 0 | I15: =G15+H15 -> 0 | J15: {=COUNT(_FV(_xldudf_EVEONLINE_CHARACTER_SKILLS(A15),"id"))} -> 0 | K15: {=SUM(_FV(_xldudf_EVEONLINE_CHARACTER_SKILLS(A15),"skillpoints_in_skill"))} -> #VALUE!
G16: {=IF(A16="",0,_xldudf_EVEONLINE_CHARACTER_WALLET_BALANCE(A16))} -> 0 | H16: =SUMIFS(Assets!L:L,Assets!G:G,A16) -> 0 | I16: =G16+H16 -> 0 | J16: {=COUNT(_FV(_xldudf_EVEONLINE_CHARACTER_SKILLS(A16),"id"))} -> 0 | K16: {=SUM(_FV(_xldudf_EVEONLINE_CHARACTER_SKILLS(A16),"skillpoints_in_skill"))} -> #VALUE!
... G100: {=IF(A100="",0,_xldudf_EVEONLINE_CHARACTER_WALLET_BALANCE(A100))} -> 0 | H100: =SUMIFS(Assets!L:L,Assets!G:G,A100) -> 0 | I100: =G100+H100 -> 0 | J100: {=COUNT(_FV(_xldudf_EVEONLINE_CHARACTER_SKILLS(A100),"id"))} -> 0 | K100: {=SUM(_FV(_xldudf_EVEONLINE_CHARACTER_SKILLS(A100),"skillpoints_in_skill"))} -> #VALUE!

Sheet Skills
A1: SelectCharacter | C1: Total | D1: Level 0 | E1: Level 1 | F1: Level 2 | G1: Level 3 | H1: Level 4 | I1: Level 5
B2: Skills | C2: {=COUNT(_FV(_xlfn.ANCHORARRAY(A9),"id"))} -> 0 | D2: =COUNTIF(_xlfn.ANCHORARRAY($C$9),0) -> 0 | E2: =COUNTIF(_xlfn.ANCHORARRAY($C$9),1) -> 0 | F2: =COUNTIF(_xlfn.ANCHORARRAY($C$9),2) -> 0 | G2: =COUNTIF(_xlfn.ANCHORARRAY($C$9),3) -> 0 | H2: =COUNTIF(_xlfn.ANCHORARRAY($C$9),4) -> 0 | I2: =COUNTIF(_xlfn.ANCHORARRAY($C$9),5) -> 0
B3: SkillPoints | C3: =SUM(_xlfn.ANCHORARRAY(D9)) -> #VALUE! | D3: =SUMIFS(_xlfn.ANCHORARRAY($D$9),_xlfn.ANCHORARRAY($C$9),0) -> 0 | E3: =SUMIFS(_xlfn.ANCHORARRAY($D$9),_xlfn.ANCHORARRAY($C$9),1) -> 0 | F3: =SUMIFS(_xlfn.ANCHORARRAY($D$9),_xlfn.ANCHORARRAY($C$9),2) -> 0 | G3: =SUMIFS(_xlfn.ANCHORARRAY($D$9),_xlfn.ANCHORARRAY($C$9),3) -> 0 | H3: =SUMIFS(_xlfn.ANCHORARRAY($D$9),_xlfn.ANCHORARRAY($C$9),4) -> 0 | I3: =SUMIFS(_xlfn.ANCHORARRAY($D$9),_xlfn.ANCHORARRAY($C$9),5) -> 0
A8: Skills | B8: ActiveSkillLevel | C8: TrainedSkillLevel | D8: SkillPoints | E8: Group | L8: Group | M8: Skills | N8: SkillPoints
A9: {=_xlfn._xlws.SORT(_xldudf_EVEONLINE_CHARACTER_SKILLS(A2))} -> #N/A | B9: {=_FV(_xlfn.ANCHORARRAY(A9),"active_skill_level")} -> #VALUE! | C9: {=_FV(_xlfn.ANCHORARRAY(A9),"trained_skill_level")} -> #VALUE! | D9: {=_FV(_xlfn.ANCHORARRAY(A9),"skillpoints_in_skill")} -> #VALUE! | E9: {=IF(A9="","-",_FV(_xldudf_EVEONLINE_GROUP(_FV(_xldudf_EVEONLINE_TYPE(_FV(A9,"id")),"groupID")),"name"))} -> #N/A | L9: {=_xlfn._xlws.SORT(_xlfn.UNIQUE(_xlfn._xlws.FILTER($E$9:$E$1000,$E$9:$E$1000<>"-")))} -> #N/A | M9: {=COUNTIF($E$9:$E$1000,_xlfn.ANCHORARRAY($L$9))} -> 1 | N9: {=SUMIFS($D$9:$D$1000,$E$9:$E$1000,_xlfn.ANCHORARRAY($L$9))} -> #VALUE!
E10: {=IF(A10="","-",_FV(_xldudf_EVEONLINE_GROUP(_FV(_xldudf_EVEONLINE_TYPE(_FV(A10,"id")),"groupID")),"name"))} -> -
E11: {=IF(A11="","-",_FV(_xldudf_EVEONLINE_GROUP(_FV(_xldudf_EVEONLINE_TYPE(_FV(A11,"id")),"groupID")),"name"))} -> -
E12: {=IF(A12="","-",_FV(_xldudf_EVEONLINE_GROUP(_FV(_xldudf_EVEONLINE_TYPE(_FV(A12,"id")),"groupID")),"name"))} -> -
E13: {=IF(A13="","-",_FV(_xldudf_EVEONLINE_GROUP(_FV(_xldudf_EVEONLINE_TYPE(_FV(A13,"id")),"groupID")),"name"))} -> -
E14: {=IF(A14="","-",_FV(_xldudf_EVEONLINE_GROUP(_FV(_xldudf_EVEONLINE_TYPE(_FV(A14,"id")),"groupID")),"name"))} -> -
E15: {=IF(A15="","-",_FV(_xldudf_EVEONLINE_GROUP(_FV(_xldudf_EVEONLINE_TYPE(_FV(A15,"id")),"groupID")),"name"))} -> -
E16: {=IF(A16="","-",_FV(_xldudf_EVEONLINE_GROUP(_FV(_xldudf_EVEONLINE_TYPE(_FV(A16,"id")),"groupID")),"name"))} -> -
E17: {=IF(A17="","-",_FV(_xldudf_EVEONLINE_GROUP(_FV(_xldudf_EVEONLINE_TYPE(_FV(A17,"id")),"groupID")),"name"))} -> -
E18: {=IF(A18="","-",_FV(_xldudf_EVEONLINE_GROUP(_FV(_xldudf_EVEONLINE_TYPE(_FV(A18,"id")),"groupID")),"name"))} -> -
E19: {=IF(A19="","-",_FV(_xldudf_EVEONLINE_GROUP(_FV(_xldudf_EVEONLINE_TYPE(_FV(A19,"id")),"groupID")),"name"))} -> -
E20: {=IF(A20="","-",_FV(_xldudf_EVEONLINE_GROUP(_FV(_xldudf_EVEONLINE_TYPE(_FV(A20,"id")),"groupID")),"name"))} -> -
E21: {=IF(A21="","-",_FV(_xldudf_EVEONLINE_GROUP(_FV(_xldudf_EVEONLINE_TYPE(_FV(A21,"id")),"groupID")),"name"))} -> -
... E1000: {=IF(A1000="","-",_FV(_xldudf_EVEONLINE_GROUP(_FV(_xldudf_EVEONLINE_TYPE(_FV(A1000,"id")),"groupID")),"name"))} -> -

Sheet Finances
A1: ISK Balance Total | B1: Change On Record | C1: Change in 30d | D1: Change in 7d | F1: Assets Value | G1: Total Value
A2: =SUM(Characters!G:G) -> #N/A | B2: =IFERROR(SUM(_xlfn.ANCHORARRAY(WalletJournal!B2)),0) -> 0 | C2: {=IFERROR(SUM(_xlfn._xlws.FILTER(_xlfn.ANCHORARRAY(WalletJournal!B2),_xlfn.ANCHORARRAY(WalletJournal!D2)>INT(TODAY()-30))),0)} -> 0 | D2: {=IFERROR(SUM(_xlfn._xlws.FILTER(_xlfn.ANCHORARRAY(WalletJournal!B2),_xlfn.ANCHORARRAY(WalletJournal!D2)>INT(TODAY()-7))),0)} -> 0 | F2: =SUM(Characters!H:H) -> 0 | G2: =A2+F2 -> #N/A
A8: Cashflow | B8: Total On Record | C8: 30d | D8: 7d
A9: {=_xlfn.UNIQUE(_xlfn.ANCHORARRAY(WalletJournal!H2))} -> #VALUE! | B9: {=SUMIFS(_xlfn.ANCHORARRAY(WalletJournal!B$2),_xlfn.ANCHORARRAY(WalletJournal!H$2),_xlfn.ANCHORARRAY(A9))} -> #VALUE! | C9: {=SUMIFS(_xlfn.ANCHORARRAY(WalletJournal!B$2),_xlfn.ANCHORARRAY(WalletJournal!H$2),_xlfn.ANCHORARRAY(A9),_xlfn.ANCHORARRAY(WalletJournal!D$2),">"&INT(TODAY()-30))} -> 0 | D9: {=SUMIFS(_xlfn.ANCHORARRAY(WalletJournal!B$2),_xlfn.ANCHORARRAY(WalletJournal!H$2),_xlfn.ANCHORARRAY(A9),_xlfn.ANCHORARRAY(WalletJournal!D$2),">"&INT(TODAY()-7))} -> 0

Sheet WalletJournal
A1: Wallet Entry | B1: Amount | C1: DateTime | D1: Date | E1: Description | F1: Owner | G1: Reason | H1: Type | I1: Balance
A2: {=_xldudf_EVEONLINE_CHARACTER_WALLET_JOURNAL()} -> #N/A | B2: {=_FV(_xlfn.ANCHORARRAY(A2),"amount")} -> #VALUE! | C2: {=_FV(_xlfn.ANCHORARRAY(A2),"date")} -> #VALUE! | D2: {=_xlfn.ANCHORARRAY(C2)} -> #VALUE! | E2: {=_FV(_xlfn.ANCHORARRAY(A2),"description")} -> #VALUE! | F2: {=_FV(_xlfn.ANCHORARRAY(A2),"Owner")} -> #VALUE! | G2: {=_FV(_xlfn.ANCHORARRAY(A2),"reason")} -> #VALUE! | H2: {=_FV(_xlfn.ANCHORARRAY(A2),"ref_type")} -> #VALUE! | I2: {=_FV(_xlfn.ANCHORARRAY(A2),"balance")} -> #VALUE!

Sheet MarketTransactions
A1: MarketTransaction | B1: Owner | C1: IsBuy | D1: Date | E1: Item | F1: Price | G1: Qty | H1: Value
A2: {=_xldudf_EVEONLINE_CHARACTER_WALLET_TRANSACTIONS()} -> #N/A | B2: {=_FV(_xlfn.ANCHORARRAY(A2),"Owner")} -> #VALUE! | C2: {=_FV(_xlfn.ANCHORARRAY(A2),"is_buy")} -> #VALUE! | D2: {=_FV(_xlfn.ANCHORARRAY(A2),"date")} -> #VALUE! | E2: {=_FV(_xlfn.ANCHORARRAY(A2),"type")} -> #VALUE! | F2: {=_FV(_xlfn.ANCHORARRAY(A2),"unit_price")} -> #VALUE! | G2: {=_FV(_xlfn.ANCHORARRAY(A2),"quantity")} -> #VALUE! | H2: {=_FV(_xlfn.ANCHORARRAY(A2),"quantity")*_FV(_xlfn.ANCHORARRAY(A2),"unit_price")} -> #VALUE!

Sheet MarketOrdersActive
A1: MarketOrder | B1: Owner | C1: Issued | D1: Type | E1: Duration | F1: Price | G1: VolumeRemain | H1: VolumeTotal | I1: Location | J1: IsBuyOrder
A2: {=_xldudf_EVEONLINE_CHARACTER_ORDERS()} -> #N/A | B2: {=_FV(_xlfn.ANCHORARRAY(A2),"Owner")} -> #VALUE! | C2: {=_FV(_xlfn.ANCHORARRAY(A2),"issued")} -> #VALUE! | D2: {=_FV(_xlfn.ANCHORARRAY(A2),"type")} -> #VALUE! | E2: {=_FV(_xlfn.ANCHORARRAY(A2),"duration")} -> #VALUE! | F2: {=_FV(_xlfn.ANCHORARRAY(A2),"price")} -> #VALUE! | G2: {=_FV(_xlfn.ANCHORARRAY(A2),"volume_remain")} -> #VALUE! | H2: {=_FV(_xlfn.ANCHORARRAY(A2),"volume_total")} -> #VALUE! | I2: {=_FV(_xlfn.ANCHORARRAY(A2),"location")} -> #VALUE!

Sheet MarketOrdersHistory
A1: MarketOrder | B1: Escrow | C1: IsBuyOrder | D1: IsCorpOrder | E1: Date | F1: MinVolume | G1: Price | H1: Range | I1: State | J1: Item | K1: Volume Remain | L1: Volume Total | M1: RegionId | N1: Location
A2: {=_xldudf_EVEONLINE_CHARACTER_ORDERS_HISTORY()} -> #N/A | B2: {=IFERROR(_FV(_xlfn.ANCHORARRAY(A2),"escrow"),0)} -> 0 | C2: {=IFERROR(_FV(_xlfn.ANCHORARRAY(A2),"is_buy_order"),FALSE)} -> FALSE | D2: {=_FV(_xlfn.ANCHORARRAY(A2),"is_corporation")} -> #VALUE! | E2: {=_FV(_xlfn.ANCHORARRAY(A2),"issued")} -> #VALUE! | F2: {=IFERROR(_FV(_xlfn.ANCHORARRAY(A2),"min_volume"),0)} -> 0 | G2: {=_FV(_xlfn.ANCHORARRAY(A2),"price")} -> #VALUE! | H2: {=_FV(_xlfn.ANCHORARRAY(A2),"range")} -> #VALUE! | I2: {=_FV(_xlfn.ANCHORARRAY(A2),"state")} -> #VALUE! | J2: {=_FV(_xlfn.ANCHORARRAY(A2),"type")} -> #VALUE! | K2: {=_FV(_xlfn.ANCHORARRAY(A2),"volume_remain")} -> #VALUE! | L2: {=_FV(_xlfn.ANCHORARRAY(A2),"volume_total")} -> #VALUE! | M2: {=_FV(_xlfn.ANCHORARRAY(A2),"region_id")} -> #VALUE! | N2: {=_FV(_xlfn.ANCHORARRAY(A2),"location")} -> #VALUE!

Sheet Assets
A1: Asset | B1: Group | C1: Category | D1: TypeId | E1: Image | F1: Qty | G1: Owner | H1: Location | I1: LocationFlag | J1: LocationType | K1: AdjustedPrice | L1: Value | M1: UnitVolume | N1: TotalVolume
A2: {=_xldudf_EVEONLINE_CHARACTER_ASSETS()} -> #N/A | B2: {=IF(A2="","-",_xldudf_EVEONLINE_GROUP(_FV(_FV(A2,"type"),"groupID")))} -> #N/A | C2: {=IF(B2="-","-",_xldudf_EVEONLINE_CATEGORY(_FV(B2,"category_id")))} -> #N/A | D2: {=_FV(_FV(_xlfn.ANCHORARRAY(A2),"type"),"id")} -> #VALUE! | E2: {=_FV(_xlfn.ANCHORARRAY(A2),"image")} -> #VALUE! | F2: {=_FV(_xlfn.ANCHORARRAY(A2),"quantity")} -> #VALUE! | G2: {=_FV(_xlfn.ANCHORARRAY(A2),"Owner")} -> #VALUE! | H2: {=_FV(_xlfn.ANCHORARRAY(A2),"location")} -> #VALUE! | I2: {=_FV(_xlfn.ANCHORARRAY(A2),"location_flag")} -> #VALUE! | J2: {=_FV(_xlfn.ANCHORARRAY(A2),"location_type")} -> #VALUE! | K2: {=IFERROR(_FV(_xldudf_EVEONLINE_TYPE(_FV(_FV(A2,"type"),"id")),"Adjusted Price",TRUE),0)} -> 0 | L2: =F2*K2 -> #VALUE! | M2: {=_FV(_FV(_xlfn.ANCHORARRAY(A2),"type"),"volume")} -> #VALUE! | N2: {=_xlfn.ANCHORARRAY(F2)*_xlfn.ANCHORARRAY(M2)} -> #VALUE!
B3: {=IF(A3="","-",_xldudf_EVEONLINE_GROUP(_FV(_FV(A3,"type"),"groupID")))} -> - | C3: {=IF(B3="-","-",_xldudf_EVEONLINE_CATEGORY(_FV(B3,"category_id")))} -> - | K3: {=IFERROR(_FV(_xldudf_EVEONLINE_TYPE(_FV(_FV(A3,"type"),"id")),"Adjusted Price",TRUE),0)} -> 0 | L3: =F3*K3 -> 0
B4: {=IF(A4="","-",_xldudf_EVEONLINE_GROUP(_FV(_FV(A4,"type"),"groupID")))} -> - | C4: {=IF(B4="-","-",_xldudf_EVEONLINE_CATEGORY(_FV(B4,"category_id")))} -> - | K4: {=IFERROR(_FV(_xldudf_EVEONLINE_TYPE(_FV(_FV(A4,"type"),"id")),"Adjusted Price",TRUE),0)} -> 0 | L4: =F4*K4 -> 0
B5: {=IF(A5="","-",_xldudf_EVEONLINE_GROUP(_FV(_FV(A5,"type"),"groupID")))} -> - | C5: {=IF(B5="-","-",_xldudf_EVEONLINE_CATEGORY(_FV(B5,"category_id")))} -> - | K5: {=IFERROR(_FV(_xldudf_EVEONLINE_TYPE(_FV(_FV(A5,"type"),"id")),"Adjusted Price",TRUE),0)} -> 0 | L5: =F5*K5 -> 0
B6: {=IF(A6="","-",_xldudf_EVEONLINE_GROUP(_FV(_FV(A6,"type"),"groupID")))} -> - | C6: {=IF(B6="-","-",_xldudf_EVEONLINE_CATEGORY(_FV(B6,"category_id")))} -> - | K6: {=IFERROR(_FV(_xldudf_EVEONLINE_TYPE(_FV(_FV(A6,"type"),"id")),"Adjusted Price",TRUE),0)} -> 0 | L6: =F6*K6 -> 0
B7: {=IF(A7="","-",_xldudf_EVEONLINE_GROUP(_FV(_FV(A7,"type"),"groupID")))} -> - | C7: {=IF(B7="-","-",_xldudf_EVEONLINE_CATEGORY(_FV(B7,"category_id")))} -> - | K7: {=IFERROR(_FV(_xldudf_EVEONLINE_TYPE(_FV(_FV(A7,"type"),"id")),"Adjusted Price",TRUE),0)} -> 0 | L7: =F7*K7 -> 0
B8: {=IF(A8="","-",_xldudf_EVEONLINE_GROUP(_FV(_FV(A8,"type"),"groupID")))} -> - | C8: {=IF(B8="-","-",_xldudf_EVEONLINE_CATEGORY(_FV(B8,"category_id")))} -> - | K8: {=IFERROR(_FV(_xldudf_EVEONLINE_TYPE(_FV(_FV(A8,"type"),"id")),"Adjusted Price",TRUE),0)} -> 0 | L8: =F8*K8 -> 0
B9: {=IF(A9="","-",_xldudf_EVEONLINE_GROUP(_FV(_FV(A9,"type"),"groupID")))} -> - | C9: {=IF(B9="-","-",_xldudf_EVEONLINE_CATEGORY(_FV(B9,"category_id")))} -> - | K9: {=IFERROR(_FV(_xldudf_EVEONLINE_TYPE(_FV(_FV(A9,"type"),"id")),"Adjusted Price",TRUE),0)} -> 0 | L9: =F9*K9 -> 0
B10: {=IF(A10="","-",_xldudf_EVEONLINE_GROUP(_FV(_FV(A10,"type"),"groupID")))} -> - | C10: {=IF(B10="-","-",_xldudf_EVEONLINE_CATEGORY(_FV(B10,"category_id")))} -> - | K10: {=IFERROR(_FV(_xldudf_EVEONLINE_TYPE(_FV(_FV(A10,"type"),"id")),"Adjusted Price",TRUE),0)} -> 0 | L10: =F10*K10 -> 0
B11: {=IF(A11="","-",_xldudf_EVEONLINE_GROUP(_FV(_FV(A11,"type"),"groupID")))} -> - | C11: {=IF(B11="-","-",_xldudf_EVEONLINE_CATEGORY(_FV(B11,"category_id")))} -> - | K11: {=IFERROR(_FV(_xldudf_EVEONLINE_TYPE(_FV(_FV(A11,"type"),"id")),"Adjusted Price",TRUE),0)} -> 0 | L11: =F11*K11 -> 0
B12: {=IF(A12="","-",_xldudf_EVEONLINE_GROUP(_FV(_FV(A12,"type"),"groupID")))} -> - | C12: {=IF(B12="-","-",_xldudf_EVEONLINE_CATEGORY(_FV(B12,"category_id")))} -> - | K12: {=IFERROR(_FV(_xldudf_EVEONLINE_TYPE(_FV(_FV(A12,"type"),"id")),"Adjusted Price",TRUE),0)} -> 0 | L12: =F12*K12 -> 0
B13: {=IF(A13="","-",_xldudf_EVEONLINE_GROUP(_FV(_FV(A13,"type"),"groupID")))} -> - | C13: {=IF(B13="-","-",_xldudf_EVEONLINE_CATEGORY(_FV(B13,"category_id")))} -> - | K13: {=IFERROR(_FV(_xldudf_EVEONLINE_TYPE(_FV(_FV(A13,"type"),"id")),"Adjusted Price",TRUE),0)} -> 0 | L13: =F13*K13 -> 0
B14: {=IF(A14="","-",_xldudf_EVEONLINE_GROUP(_FV(_FV(A14,"type"),"groupID")))} -> - | C14: {=IF(B14="-","-",_xldudf_EVEONLINE_CATEGORY(_FV(B14,"category_id")))} -> - | K14: {=IFERROR(_FV(_xldudf_EVEONLINE_TYPE(_FV(_FV(A14,"type"),"id")),"Adjusted Price",TRUE),0)} -> 0 | L14: =F14*K14 -> 0
... B5000: {=IF(A5000="","-",_xldudf_EVEONLINE_GROUP(_FV(_FV(A5000,"type"),"groupID")))} -> - | C5000: {=IF(B5000="-","-",_xldudf_EVEONLINE_CATEGORY(_FV(B5000,"category_id")))} -> - | K5000: {=IFERROR(_FV(_xldudf_EVEONLINE_TYPE(_FV(_FV(A5000,"type"),"id")),"Adjusted Price",TRUE),0)} -> 0 | L5000: =F5000*K5000 -> 0

Sheet IndustryJobs
A1: Job | B1: ActivityId | C1: Status | D1: SuccessfulRuns | E1: BasePrice | F1: InstalledDate | G1: EndDate | H1: CompletedDate | I1: Runs | J1: Facility | K1: InstalledBy | L1: CompletedBy | M1: Cost | N1: Duration | O1: LicensedRuns | P1: OutputLocation | Q1: Owner | R1: BlueprintId | S1: BpLocation | T1: Probability | U1: Product
A2: {=_xldudf_EVEONLINE_CHARACTER_INDUSTRY_JOBS()} -> #N/A | B2: {=_FV(_xlfn.ANCHORARRAY(A2),"activity_id")} -> #VALUE! | C2: {=_FV(_xlfn.ANCHORARRAY(A2),"status")} -> #VALUE! | D2: {=_FV(_xlfn.ANCHORARRAY(A2),"successful_runs")} -> #VALUE! | E2: {=_FV(_xlfn.ANCHORARRAY(A2),"basePrice")} -> #VALUE! | F2: {=_FV(_xlfn.ANCHORARRAY(A2),"start_date")} -> #VALUE! | G2: {=_FV(_xlfn.ANCHORARRAY(A2),"end_date")} -> #VALUE! | H2: {=_FV(_xlfn.ANCHORARRAY(A2),"completed_date")} -> #VALUE! | I2: {=_FV(_xlfn.ANCHORARRAY(A2),"runs")} -> #VALUE! | J2: {=_FV(_xlfn.ANCHORARRAY(A2),"facility")} -> #VALUE! | K2: {=_FV(_xlfn.ANCHORARRAY(A2),"installer")} -> #VALUE! | L2: {=IFERROR(_xldudf_EVEONLINE_CHARACTER(_FV(A2,"completed_character_id")),"NA")} -> NA | M2: {=_FV(_xlfn.ANCHORARRAY(A2),"cost")} -> #VALUE! | N2: {=_FV(_xlfn.ANCHORARRAY(A2),"duration")} -> #VALUE! | O2: {=_FV(_xlfn.ANCHORARRAY(A2),"licensed_runs")} -> #VALUE! | P2: {=_FV(_xlfn.ANCHORARRAY(A2),"output_location")} -> #VALUE! | Q2: {=_FV(_xlfn.ANCHORARRAY(A2),"Owner")} -> #VALUE! | R2: {=_FV(_xlfn.ANCHORARRAY(A2),"blueprint_id")} -> #VALUE! | S2: {=_FV(_xlfn.ANCHORARRAY(A2),"blueprint_location")} -> #VALUE! | T2: {=_FV(_xlfn.ANCHORARRAY(A2),"probability")} -> #VALUE! | U2: {=_FV(_xlfn.ANCHORARRAY(A2),"product_type")} -> #VALUE!
L3: {=IFERROR(_xldudf_EVEONLINE_CHARACTER(_FV(A3,"completed_character_id")),"NA")} -> NA
L4: {=IFERROR(_xldudf_EVEONLINE_CHARACTER(_FV(A4,"completed_character_id")),"NA")} -> NA
L5: {=IFERROR(_xldudf_EVEONLINE_CHARACTER(_FV(A5,"completed_character_id")),"NA")} -> NA
L6: {=IFERROR(_xldudf_EVEONLINE_CHARACTER(_FV(A6,"completed_character_id")),"NA")} -> NA
L7: {=IFERROR(_xldudf_EVEONLINE_CHARACTER(_FV(A7,"completed_character_id")),"NA")} -> NA
L8: {=IFERROR(_xldudf_EVEONLINE_CHARACTER(_FV(A8,"completed_character_id")),"NA")} -> NA
L9: {=IFERROR(_xldudf_EVEONLINE_CHARACTER(_FV(A9,"completed_character_id")),"NA")} -> NA
L10: {=IFERROR(_xldudf_EVEONLINE_CHARACTER(_FV(A10,"completed_character_id")),"NA")} -> NA
L11: {=IFERROR(_xldudf_EVEONLINE_CHARACTER(_FV(A11,"completed_character_id")),"NA")} -> NA
L12: {=IFERROR(_xldudf_EVEONLINE_CHARACTER(_FV(A12,"completed_character_id")),"NA")} -> NA
L13: {=IFERROR(_xldudf_EVEONLINE_CHARACTER(_FV(A13,"completed_character_id")),"NA")} -> NA
L14: {=IFERROR(_xldudf_EVEONLINE_CHARACTER(_FV(A14,"completed_character_id")),"NA")} -> NA
... L1000: {=IFERROR(_xldudf_EVEONLINE_CHARACTER(_FV(A1000,"completed_character_id")),"NA")} -> NA

Sheet Blueprints
A1: Blueprint | B1: Owner | C1: ME | D1: TE | E1: Runs | F1: Location | G1: LocationFlag
A2: {=_xldudf_EVEONLINE_CHARACTER_BLUEPRINTS()} -> #N/A | B2: {=_FV(_xlfn.ANCHORARRAY(A2),"Owner")} -> #VALUE! | C2: {=_FV(_xlfn.ANCHORARRAY(A2),"material_efficiency")} -> #VALUE! | D2: {=_FV(_xlfn.ANCHORARRAY(A2),"time_efficiency")} -> #VALUE! | E2: {=_FV(_xlfn.ANCHORARRAY(A2),"runs")} -> #VALUE! | F2: {=_FV(_xlfn.ANCHORARRAY(A2),"location")} -> #VALUE! | G2: {=_FV(_xlfn.ANCHORARRAY(A2),"location_flag")} -> #VALUE!

Sheet ManufacturingSimple
A1: Product Details
A2: Product Name | B2: Dominix | C2: Profit | D2: =$B$72 -> #VALUE!
A3: Job Runs | B3: 5 | C3: Margin | D3: =$B$73 -> #VALUE!
A4: My Sales Price Per Unit | C4: Profit Per Day | D4: =$B$77 -> #VALUE!
A5: Average Price Per Unit | B5: {=_FV(_FV(A86,"type"),"Average Price",TRUE)} -> #VALUE! | C5: Job Time | D5: =B68 -> #VALUE!
A6: Solar System | B6: Jita | C6: Manufacturing Cost Index Source | D6: Based on Solar System
A7: Manufacturing Cost Index Override | C7: Manufacturing Cost Index | D7: {=IF(D6="Based on Solar System",_FV(_xldudf_EVEONLINE_INDUSTRYINDEX(_FV(_xldudf_EVEONLINE_SEARCHSOLARSYSTEM(B6),"id")),"manufacturing"),B7)} -> 0.2297
A9: Scenarios - Setup | B9: My Scenario - My BP with my bonuses | C9: Worst - Unresearched BP with no bonuses | D9: Best - Max BP with best structure bonuses
A10: BP Material Efficiency | B10: 0 | C10: 0 | D10: 0.1
A11: BP Time Efficiency | B11: 0 | C11: 0 | D11: 0.2
A12: Facility Type | B12: Raitaru | C12: Station | D12: Sotiyo
A13: Manufacturing System Cost Index (SCI) | B13: =D7 -> 0.2297 | C13: 0.2298 | D13: 0.0005
A15: Structure Rig for Material Consumption Bonus | B15: Tech II Rig | C15: No Rig | D15: Tech II Rig
A16: Structure Rig for Time Bonus | B16: No Rig | C16: No Rig | D16: Tech II Rig
A17: Structure Location | B17: Nullsec/WH | C17: Hisec | D17: Nullsec/WH
A18: Structure Owner Manufacturing Tax | B18: 0.01 | C18: 0.1 | D18: 0
A19: Structure Owner Market Broker Fee | B19: 0.01 | C19: 0.115 | D19: 0
A21: Station Owner Faction Standing | B21: 0 | C21: 0 | D21: 10
A22: Station Owner Corporation Standing | B22: 0 | C22: 0 | D22: 10
A23: Product Sales Market Order Type | B23: Immediate | C23: Non-Immediate | D23: Immediate
A24: Product Sales Market Order Location | B24: Station | C24: Station | D24: Structure
A26: Clone State | B26: Omega | C26: Alpha | D26: Omega
A27: Selected Character | C27: N/A | D27: N/A | E27: If no character is selected in column B, input skill levels here
A28: SkillLevel - Industry | B28: {=IF($B$27="",F28,_xlfn.XLOOKUP(E28,_xlfn.ANCHORARRAY(h_ManufacturingSkills!$B$4),_xlfn.ANCHORARRAY(h_ManufacturingSkills!$C$4),0,0))} -> 0 | C28: 3 | D28: 5 | E28: Industry | F28: 0
A29: SkillLevel - Advanced Industry | B29: {=IF($B$27="",F29,_xlfn.XLOOKUP(E29,_xlfn.ANCHORARRAY(h_ManufacturingSkills!$B$4),_xlfn.ANCHORARRAY(h_ManufacturingSkills!$C$4),0,0))} -> 0 | C29: 0 | D29: 5 | E29: Advanced Industry | F29: 0
A30: SkillLevel - Mass Production | B30: {=IF($B$27="",F30,_xlfn.XLOOKUP(E30,_xlfn.ANCHORARRAY(h_ManufacturingSkills!$B$4),_xlfn.ANCHORARRAY(h_ManufacturingSkills!$C$4),0,0))} -> 0 | C30: 0 | D30: 5 | E30: Mass Production | F30: 0
A31: SkillLevel - Advanced Mass Production | B31: {=IF($B$27="",F31,_xlfn.XLOOKUP(E31,_xlfn.ANCHORARRAY(h_ManufacturingSkills!$B$4),_xlfn.ANCHORARRAY(h_ManufacturingSkills!$C$4),0,0))} -> 0 | C31: 0 | D31: 5 | E31: Advanced Mass Production | F31: 0
A32: SkillLevel - Accounting | B32: {=IF($B$27="",F32,_xlfn.XLOOKUP(E32,_xlfn.ANCHORARRAY(h_ManufacturingSkills!$B$4),_xlfn.ANCHORARRAY(h_ManufacturingSkills!$C$4),0,0))} -> 0 | C32: 0 | D32: 5 | E32: Accounting | F32: 0
A33: SkillLevel - Broker Relations | B33: {=IF($B$27="",F33,_xlfn.XLOOKUP(E33,_xlfn.ANCHORARRAY(h_ManufacturingSkills!$B$4),_xlfn.ANCHORARRAY(h_ManufacturingSkills!$C$4),0,0))} -> 0 | C33: 0 | D33: 5 | E33: Broker Relations | F33: 0
L34: Data for charts
A35: Scenarios - Results | B35: My Scenario - My BP with my bonuses | C35: Worst - Unresearched BP with no bonuses | D35: Best - Max BP with best structure bonuses | M35: My Scenario - My BP with my bonuses | N35: Worst - Unresearched BP with no bonuses | O35: Best - Max BP with best structure bonuses
A36: Material Consumption Structure Role Bonus | B36: =_xlfn.XLOOKUP(B12,h_ManufacturingBonuses!$A$2:$A$6,h_ManufacturingBonuses!$B$2:$B$6,,0) -> 0.01 | C36: =_xlfn.XLOOKUP(C12,h_ManufacturingBonuses!$A$2:$A$6,h_ManufacturingBonuses!$B$2:$B$6,,0) -> 0 | D36: =_xlfn.XLOOKUP(D12,h_ManufacturingBonuses!$A$2:$A$6,h_ManufacturingBonuses!$B$2:$B$6,,0) -> 0.01 | L36: Job Materials Cost | M36: =B51 -> #VALUE! | N36: =C51 -> #VALUE! | O36: =D51 -> #VALUE!
A37: Material Consumption Structure Rig Bonus | B37: =_xlfn.XLOOKUP(B15,h_ManufacturingBonuses!$A$10:$A$14,h_ManufacturingBonuses!$B$10:$B$14,,0) -> 0.024 | C37: =_xlfn.XLOOKUP(C15,h_ManufacturingBonuses!$A$10:$A$14,h_ManufacturingBonuses!$B$10:$B$14,,0) -> 0 | D37: =_xlfn.XLOOKUP(D15,h_ManufacturingBonuses!$A$10:$A$14,h_ManufacturingBonuses!$B$10:$B$14,,0) -> 0.024 | L37: Job Installation Cost | M37: =B59 -> #VALUE! | N37: =C59 -> #VALUE! | O37: =D59 -> #VALUE!
A38: Time Reduction Structure Role Bonus | B38: =_xlfn.XLOOKUP(B12,h_ManufacturingBonuses!$A$2:$A$6,h_ManufacturingBonuses!$C$2:$C$6,,0) -> 0.15 | C38: =_xlfn.XLOOKUP(C12,h_ManufacturingBonuses!$A$2:$A$6,h_ManufacturingBonuses!$C$2:$C$6,,0) -> 0 | D38: =_xlfn.XLOOKUP(D12,h_ManufacturingBonuses!$A$2:$A$6,h_ManufacturingBonuses!$C$2:$C$6,,0) -> 0.3 | L38: Job Market Costs | M38: =B63 -> 0 | N38: =C63 -> 0 | O38: =D63 -> 0
A39: Time Reduction Structure Rig Bonus | B39: =_xlfn.XLOOKUP(B16,h_ManufacturingBonuses!$A$10:$A$14,h_ManufacturingBonuses!$C$10:$C$14,,0) -> 0 | C39: =_xlfn.XLOOKUP(C16,h_ManufacturingBonuses!$A$10:$A$14,h_ManufacturingBonuses!$C$10:$C$14,,0) -> 0 | D39: =_xlfn.XLOOKUP(D16,h_ManufacturingBonuses!$A$10:$A$14,h_ManufacturingBonuses!$C$10:$C$14,,0) -> 0.24 | L39: Sales Price | M39: =$B$50 -> 0 | N39: =$B$50 -> 0 | O39: =$B$50 -> 0
A40: Structure Location Rig Bonus Modifier | B40: =_xlfn.XLOOKUP(B17,h_ManufacturingBonuses!$A$19:$A$21,h_ManufacturingBonuses!$B$19:$B$21,,0) -> 2.1 | C40: =_xlfn.XLOOKUP(C17,h_ManufacturingBonuses!$A$19:$A$21,h_ManufacturingBonuses!$B$19:$B$21,,0) -> 1 | D40: =_xlfn.XLOOKUP(D17,h_ManufacturingBonuses!$A$19:$A$21,h_ManufacturingBonuses!$B$19:$B$21,,0) -> 2.1
A41: Manufacturing System Cost Index Modifier | B41: =_xlfn.XLOOKUP(B12,h_ManufacturingBonuses!$A$2:$A$6,h_ManufacturingBonuses!$D$2:$D$6,,0) -> 0.03 | C41: =_xlfn.XLOOKUP(C12,h_ManufacturingBonuses!$A$2:$A$6,h_ManufacturingBonuses!$D$2:$D$6,,0) -> 0 | D41: =_xlfn.XLOOKUP(D12,h_ManufacturingBonuses!$A$2:$A$6,h_ManufacturingBonuses!$D$2:$D$6,,0) -> 0.05
A42: SCC Manufacturing Surcharge | B42: 0.0025 | C42: 0.0025 | D42: 0.0025
A43: Clone State Manufacturing Surcharge | B43: =VLOOKUP(B26,h_ManufacturingBonuses!$A$25:$B$26,2,FALSE) -> 0 | C43: =VLOOKUP(C26,h_ManufacturingBonuses!$A$25:$B$26,2,FALSE) -> 0.0025 | D43: =VLOOKUP(D26,h_ManufacturingBonuses!$A$25:$B$26,2,FALSE) -> 0
A44: Structure Broker Fee SCC Surcharge | B44: =IF(B23="Immediate",0,0.0025) -> 0 | C44: =IF(C23="Immediate",0,0.0025) -> 0.0025 | D44: =IF(D23="Immediate",0,0.0025) -> 0
...

Sheet ItemMarketInfo
A1: Item Name | B1: Region Name
A2: Rifter | B2: The Forge
A3: {=_xldudf_EVEONLINE_INVENTORYSEARCH(A2,TRUE)} -> #N/A | B3: {=_xldudf_EVEONLINE_SEARCHREGION(B2)} -> #VALUE!
A5: SUMMARY
A6: Highest Sell | B6: Lowest Sell | C6: Highest Buy | D6: Lowest Buy | E6: Spread | F6: SpreadGrossMargin | G6: BuyVolumeAtSpread | H6: TotalSpreadGrossMargin
A7: =MAX(_xlfn.ANCHORARRAY(C15)) -> #VALUE! | B7: =MIN(_xlfn.ANCHORARRAY(C15)) -> #VALUE! | C7: =MAX(_xlfn.ANCHORARRAY(I15)) -> #VALUE! | D7: =MIN(_xlfn.ANCHORARRAY(I15)) -> #VALUE! | E7: =B7-C7 -> #VALUE! | F7: =E7/B7 -> #VALUE! | G7: =SUMIFS(_xlfn.ANCHORARRAY(J15),_xlfn.ANCHORARRAY(I15),C7) -> #VALUE! | H7: =G7*E7 -> #VALUE!
A11: ORDERS
A13: SELL | G13: BUY
A14: Order | B14: Location | C14: Price | D14: Qty | G14: Order | H14: Location | I14: Price | J14: Qty
A15: {=_xlfn.SORTBY(_xlfn._xlws.FILTER(_xlfn.ANCHORARRAY(h_ItemMarketInfo!$A$2), NOT(_FV(_xlfn.ANCHORARRAY(h_ItemMarketInfo!$A$2),"is_buy_order"))),_FV(_xlfn._xlws.FILTER(_xlfn.ANCHORARRAY(h_ItemMarketInfo!$A$2),NOT(_FV(_xlfn.ANCHORARRAY(h_ItemMarketInfo!$A$2),"is_buy_order"))),"price"),1)} -> #VALUE! | B15: {=_FV(_xlfn.ANCHORARRAY(A15),"location")} -> #VALUE! | C15: {=_FV(_xlfn.ANCHORARRAY(A15),"price")} -> #VALUE! | D15: {=_FV(_xlfn.ANCHORARRAY(A15),"volume_remain")} -> #VALUE! | G15: {=_xlfn.SORTBY(_xlfn._xlws.FILTER(_xlfn.ANCHORARRAY(h_ItemMarketInfo!$A$2),_FV(_xlfn.ANCHORARRAY( h_ItemMarketInfo!$A$2),"is_buy_order")),_FV(_xlfn._xlws.FILTER(_xlfn.ANCHORARRAY(h_ItemMarketInfo!$A$2),_FV(_xlfn.ANCHORARRAY(h_ItemMarketInfo!$A$2),"is_buy_order")),"price"),-1)} -> #VALUE! | H15: {=_FV(_xlfn.ANCHORARRAY(G15),"location")} -> #VALUE! | I15: {=_FV(_xlfn.ANCHORARRAY(G15),"price")} -> #VALUE! | J15: {=_FV(_xlfn.ANCHORARRAY(G15),"volume_remain")} -> #VALUE!

Sheet h_ManufacturingSkills
A1: Character | B1: =ManufacturingSimple!B27 -> 0
A3: Skill | B3: Name | C3: Level
A4: {=_xldudf_EVEONLINE_CHARACTER_SKILLS(B1)} -> #N/A | B4: {=_FV(_xlfn.ANCHORARRAY(A4),"name")} -> #VALUE! | C4: {=_FV(_xlfn.ANCHORARRAY(A4),"active_skill_level")} -> #VALUE!

Sheet h_ManufacturingBonuses
A1: Facility Type | B1: Materials Requirement Reduction | C1: Time Requirement Reduction | D1: ManufacturingSystemCostIndexModifier
A2: Station | B2: 0 | C2: 0 | D2: 0
A3: Citadel/Refinery | B3: 0 | C3: 0 | D3: 0
A4: Raitaru | B4: 0.01 | C4: 0.15 | D4: 0.03
A5: Azbel | B5: 0.01 | C5: 0.2 | D5: 0.04
A6: Sotiyo | B6: 0.01 | C6: 0.3 | D6: 0.05
A9: Structure Rig | B9: Material Consumption Bonus | C9: Time Bonus
A10: No Rig | B10: 0 | C10: 0
A11: Tech I Rig | B11: 0.02 | C11: 0.2
A12: Tech II Rig | B12: 0.024 | C12: 0.24
A18: Space | B18: StructureLocationRigBonusModifier
A19: Hisec | B19: 1
A20: Lowsec | B20: 1.9
A21: Nullsec/WH | B21: 2.1
A24: CloneState | B24: ManufacturingSurcharge
A25: Alpha | B25: 0.0025
A26: Omega | B26: 0
A29: Skills | B29: Bonus | C29: Bonus Value
A30: Industry | B30: 4% time reduction per level | C30: 0.04
A31: Advanced Industry | B31: 3% time reduction per level | C31: 0.03
A32: Accounting | B32: 11% tax reduction per level | C32: 0.11
A35: Industry Level Bonus
A36: 0 | B36: =A36*$C$30 -> 0
A37: 1 | B37: =A37*$C$30 -> 0.04
A38: 2 | B38: =A38*$C$30 -> 0.08
A39: 3 | B39: =A39*$C$30 -> 0.12
A40: 4 | B40: =A40*$C$30 -> 0.16
A41: 5 | B41: =A41*$C$30 -> 0.2
A44: Advanced Industry Bonus
A45: 0 | B45: =A45*$C$31 -> 0
A46: 1 | B46: =A46*$C$31 -> 0.03
A47: 2 | B47: =A47*$C$31 -> 0.06
A48: 3 | B48: =A48*$C$31 -> 0.09
A49: 4 | B49: =A49*$C$31 -> 0.12
A50: 5 | B50: =A50*$C$31 -> 0.15
A53: Accounting Level tax | B53: tax
A54: 0 | B54: 0.08
A55: 1 | B55: =B54-(B54*C32) -> 0.0712
A56: 2 | B56: =B55-(B$54*C$32) -> 0.0624
A57: 3 | B57: =B56-(B$54*C$32) -> 0.0536
...

Sheet h_DataValidation
A1: ME % levels | B1: TE %levels | C1: MaterialConsumptionStructureRoleBonus% | D1: MaterialConsumptionStructureRigBonus | E1: StructureLocationRigBonusModifier | F1: StructureLocation | G1: CloneState | H1: SkillLevel | I1: Product sales market order type | J1: CostIndexOverride | K1: Product Sales Market Order Location
A2: 0 | B2: 0 | C2: 0 | D2: 0 | E2: 1 | F2: Hisec | G2: Alpha | H2: 0 | I2: Immediate | J2: Based on Solar System | K2: Station
A3: 0.01 | B3: 0.02 | C3: 1 | D3: 2 | E3: 1.9 | F3: Lowsec | G3: Omega | H3: 1 | I3: Non-Immediate | J3: Based on Override | K3: Structure
A4: 0.02 | B4: 0.04 | D4: 2.4 | E4: 2.1 | F4: Nullsec/WH | H4: 2
A5: 0.03 | B5: 0.06 | H5: 3
A6: 0.04 | B6: 0.08 | H6: 4
A7: 0.05 | B7: 0.1 | H7: 5
A8: 0.06 | B8: 0.12
A9: 0.07 | B9: 0.14
A10: 0.08 | B10: 0.16
A11: 0.09 | B11: 0.18
A12: 0.1 | B12: 0.2

Sheet h_ItemMarketInfo
A1: Order | B1: SellOrder | C1: SellOrderSorted | D1: BuyOrder | E1: BuyOrderSorterd | F1: SellPrice | G1: SellRunningTotalQty | H1: SellQty | I1: BuyPrice | J1: BuyRunningTotalQty | K1: SellQty
A2: {=_xldudf_EVEONLINE_MARKET_ORDERS(_FV(ItemMarketInfo!B3,"id"),ItemMarketInfo!A3)} -> #VALUE! | B2: {=_xlfn._xlws.FILTER(_xlfn.ANCHORARRAY(A2), NOT(_FV(_xlfn.ANCHORARRAY(A2),"is_buy_order")))} -> #VALUE! | C2: {=_xlfn.SORTBY(_xlfn.ANCHORARRAY(B2),_FV(_xlfn.ANCHORARRAY(B2),"price"))} -> #VALUE! | D2: {=_xlfn._xlws.FILTER(_xlfn.ANCHORARRAY(A2),_FV(_xlfn.ANCHORARRAY( A2),"is_buy_order"))} -> #VALUE! | E2: {=_xlfn.SORTBY(_xlfn.ANCHORARRAY(D2),_FV(_xlfn.ANCHORARRAY(D2),"price"),-1)} -> #VALUE! | F2: {=_FV(_xlfn.ANCHORARRAY(C2),"price")} -> #VALUE! | G2: =H2 -> #VALUE! | H2: {=IF(C2="",0,_FV(C2,"volume_remain"))} -> #VALUE! | I2: {=_FV(_xlfn.ANCHORARRAY(E2),"price")} -> #VALUE! | J2: =K2 -> #VALUE! | K2: {=IF(E2="",0,_FV(E2,"volume_remain"))} -> #VALUE!
G3: =H3+G2 -> #VALUE! | H3: {=IF(C3="",0,_FV(C3,"volume_remain"))} -> 0 | J3: =K3+J2 -> #VALUE! | K3: {=IF(E3="",0,_FV(E3,"volume_remain"))} -> 0
G4: =H4+G3 -> #VALUE! | H4: {=IF(C4="",0,_FV(C4,"volume_remain"))} -> 0 | J4: =K4+J3 -> #VALUE! | K4: {=IF(E4="",0,_FV(E4,"volume_remain"))} -> 0
G5: =H5+G4 -> #VALUE! | H5: {=IF(C5="",0,_FV(C5,"volume_remain"))} -> 0 | J5: =K5+J4 -> #VALUE! | K5: {=IF(E5="",0,_FV(E5,"volume_remain"))} -> 0
G6: =H6+G5 -> #VALUE! | H6: {=IF(C6="",0,_FV(C6,"volume_remain"))} -> 0 | J6: =K6+J5 -> #VALUE! | K6: {=IF(E6="",0,_FV(E6,"volume_remain"))} -> 0
G7: =H7+G6 -> #VALUE! | H7: {=IF(C7="",0,_FV(C7,"volume_remain"))} -> 0 | J7: =K7+J6 -> #VALUE! | K7: {=IF(E7="",0,_FV(E7,"volume_remain"))} -> 0
G8: =H8+G7 -> #VALUE! | H8: {=IF(C8="",0,_FV(C8,"volume_remain"))} -> 0 | J8: =K8+J7 -> #VALUE! | K8: {=IF(E8="",0,_FV(E8,"volume_remain"))} -> 0
G9: =H9+G8 -> #VALUE! | H9: {=IF(C9="",0,_FV(C9,"volume_remain"))} -> 0 | J9: =K9+J8 -> #VALUE! | K9: {=IF(E9="",0,_FV(E9,"volume_remain"))} -> 0
G10: =H10+G9 -> #VALUE! | H10: {=IF(C10="",0,_FV(C10,"volume_remain"))} -> 0 | J10: =K10+J9 -> #VALUE! | K10: {=IF(E10="",0,_FV(E10,"volume_remain"))} -> 0
G11: =H11+G10 -> #VALUE! | H11: {=IF(C11="",0,_FV(C11,"volume_remain"))} -> 0 | J11: =K11+J10 -> #VALUE! | K11: {=IF(E11="",0,_FV(E11,"volume_remain"))} -> 0
G12: =H12+G11 -> #VALUE! | H12: {=IF(C12="",0,_FV(C12,"volume_remain"))} -> 0 | J12: =K12+J11 -> #VALUE! | K12: {=IF(E12="",0,_FV(E12,"volume_remain"))} -> 0
G13: =H13+G12 -> #VALUE! | H13: {=IF(C13="",0,_FV(C13,"volume_remain"))} -> 0 | J13: =K13+J12 -> #VALUE! | K13: {=IF(E13="",0,_FV(E13,"volume_remain"))} -> 0
G14: =H14+G13 -> #VALUE! | H14: {=IF(C14="",0,_FV(C14,"volume_remain"))} -> 0 | J14: =K14+J13 -> #VALUE! | K14: {=IF(E14="",0,_FV(E14,"volume_remain"))} -> 0
... G250: =H250+G249 -> #VALUE! | H250: {=IF(C250="",0,_FV(C250,"volume_remain"))} -> 0 | J250: =K250+J249 -> #VALUE! | K250: {=IF(E250="",0,_FV(E250,"volume_remain"))} -> 0

Sheet h_regions
A1: Region | B1: Name | C1: NameSorted | D1: FilterAD | E1: NameFilteredAD | F1: FilterVR | G1: NameFilteredVR | H1: NameFilterWH | I1: NameFilteredWH
A2: {=_xldudf_EVEONLINE_SEARCHREGION()} -> #VALUE! | B2: {=_FV(_xlfn.ANCHORARRAY(A2),"regionName")} -> Derelik | C2: {=_xlfn._xlws.SORT(_xlfn.ANCHORARRAY(B2))} -> A821-A | D2: {=NOT(ISNUMBER(SEARCH("ADR0",_xlfn.ANCHORARRAY(C2))))} -> TRUE | E2: {=_xlfn._xlws.FILTER(_xlfn.ANCHORARRAY(C2),_xlfn.ANCHORARRAY(D2))} -> A821-A | F2: {=NOT(ISNUMBER(SEARCH("VR-0",_xlfn.ANCHORARRAY(E2))))} -> TRUE | G2: {=_xlfn._xlws.FILTER(_xlfn.ANCHORARRAY(E2),_xlfn.ANCHORARRAY(F2))} -> A821-A | H2: {=NOT(ISNUMBER(SEARCH("R00",_xlfn.ANCHORARRAY(G2))))} -> TRUE | I2: {=_xlfn._xlws.FILTER(_xlfn.ANCHORARRAY(G2),_xlfn.ANCHORARRAY(H2))} -> A821-A
A3: #VALUE! | B3: The Forge | C3: ADR01 | D3: FALSE | E3: A-R00001 | F3: TRUE | G3: A-R00001 | H3: FALSE | I3: Aridia
A4: #VALUE! | B4: Vale of the Silent | C4: ADR02 | D4: FALSE | E4: A-R00002 | F4: TRUE | G4: A-R00002 | H4: FALSE | I4: Black Rise
A5: #VALUE! | B5: UUA-F4 | C5: ADR03 | D5: FALSE | E5: A-R00003 | F5: TRUE | G5: A-R00003 | H5: FALSE | I5: Branch
A6: #VALUE! | B6: Detorid | C6: ADR04 | D6: FALSE | E6: Aridia | F6: TRUE | G6: Aridia | H6: TRUE | I6: Cache
A7: #VALUE! | B7: Wicked Creek | C7: ADR05 | D7: FALSE | E7: Black Rise | F7: TRUE | G7: Black Rise | H7: TRUE | I7: Catch
A8: #VALUE! | B8: Cache | C8: A-R00001 | D8: TRUE | E8: B-R00004 | F8: TRUE | G8: B-R00004 | H8: FALSE | I8: Cloud Ring
A9: #VALUE! | B9: Scalding Pass | C9: A-R00002 | D9: TRUE | E9: B-R00005 | F9: TRUE | G9: B-R00005 | H9: FALSE | I9: Cobalt Edge
A10: #VALUE! | B10: Insmother | C10: A-R00003 | D10: TRUE | E10: B-R00006 | F10: TRUE | G10: B-R00006 | H10: FALSE | I10: Curse
A11: #VALUE! | B11: Tribute | C11: Aridia | D11: TRUE | E11: B-R00007 | F11: TRUE | G11: B-R00007 | H11: FALSE | I11: Deklein
A12: #VALUE! | B12: Great Wildlands | C12: Black Rise | D12: TRUE | E12: B-R00008 | F12: TRUE | G12: B-R00008 | H12: FALSE | I12: Delve
A13: #VALUE! | B13: Curse | C13: B-R00004 | D13: TRUE | E13: Branch | F13: TRUE | G13: Branch | H13: TRUE | I13: Derelik
A14: #VALUE! | B14: Malpais | C14: B-R00005 | D14: TRUE | E14: Cache | F14: TRUE | G14: Cache | H14: TRUE | I14: Detorid
... A69: #VALUE! | B69: Pochven | C69: Kador | D69: TRUE | E69: Malpais | F69: TRUE | G69: Malpais | H69: TRUE | I69: Wicked Creek
A70: #VALUE! | B70: A-R00001 | C70: Khanid | D70: TRUE | E70: Metropolis | F70: TRUE | G70: Metropolis | H70: TRUE
A71: #VALUE! | B71: A-R00002 | C71: Kor-Azor | D71: TRUE | E71: Molden Heath | F71: TRUE | G71: Molden Heath | H71: TRUE
A72: #VALUE! | B72: A-R00003 | C72: K-R00033 | D72: TRUE | E72: Oasa | F72: TRUE | G72: Oasa | H72: TRUE
A73: #VALUE! | B73: B-R00004 | C73: Lonetrek | D73: TRUE | E73: Omist | F73: TRUE | G73: Omist | H73: TRUE
A74: #VALUE! | B74: B-R00005 | C74: Malpais | D74: TRUE | E74: Outer Passage | F74: TRUE | G74: Outer Passage | H74: TRUE
A75: #VALUE! | B75: B-R00006 | C75: Metropolis | D75: TRUE | E75: Outer Ring | F75: TRUE | G75: Outer Ring | H75: TRUE
A76: #VALUE! | B76: B-R00007 | C76: Molden Heath | D76: TRUE | E76: Paragon Soul | F76: TRUE | G76: Paragon Soul | H76: TRUE
A77: #VALUE! | B77: B-R00008 | C77: Oasa | D77: TRUE | E77: Period Basis | F77: TRUE | G77: Period Basis | H77: TRUE
A78: #VALUE! | B78: C-R00009 | C78: Omist | D78: TRUE | E78: Perrigen Falls | F78: TRUE | G78: Perrigen Falls | H78: TRUE
A79: #VALUE! | B79: C-R00010 | C79: Outer Passage | D79: TRUE | E79: Placid | F79: TRUE | G79: Placid | H79: TRUE
A80: #VALUE! | B80: C-R00011 | C80: Outer Ring | D80: TRUE | E80: Pochven | F80: TRUE | G80: Pochven | H80: TRUE
A81: #VALUE! | B81: C-R00012 | C81: Paragon Soul | D81: TRUE | E81: Providence | F81: TRUE | G81: Providence | H81: TRUE
... A102: #VALUE! | B102: K-R00033 | C102: Tribute | D102: TRUE | E102: VR-01 | F102: FALSE | G102: Wicked Creek | H102: TRUE
A103: #VALUE! | B103: ADR01 | C103: UUA-F4 | D103: TRUE | E103: VR-02 | F103: FALSE
A104: #VALUE! | B104: ADR02 | C104: Vale of the Silent | D104: TRUE | E104: VR-03 | F104: FALSE
A105: #VALUE! | B105: ADR03 | C105: Venal | D105: TRUE | E105: VR-04 | F105: FALSE
A106: #VALUE! | B106: ADR04 | C106: Verge Vendor | D106: TRUE | E106: VR-05 | F106: FALSE
A107: #VALUE! | B107: ADR05 | C107: VR-01 | D107: TRUE | E107: Wicked Creek | F107: TRUE
A108: #VALUE! | B108: VR-01 | C108: VR-02 | D108: TRUE
A109: #VALUE! | B109: VR-02 | C109: VR-03 | D109: TRUE
A110: #VALUE! | B110: VR-03 | C110: VR-04 | D110: TRUE
A111: #VALUE! | B111: VR-04 | C111: VR-05 | D111: TRUE
A112: #VALUE! | B112: VR-05 | C112: Wicked Creek | D112: TRUE
